BEGIN:VCALENDAR
VERSION:2.0
PRODID:-//¡baila! Augsburg Events - ECPv6.9.0//NONSGML v1.0//EN
CALSCALE:GREGORIAN
METHOD:PUBLISH
X-WR-CALNAME:¡baila! Augsburg Events
X-ORIGINAL-URL:https://tickets.baila-augsburg.de
X-WR-CALDESC:Events for ¡baila! Augsburg Events
REFRESH-INTERVAL;VALUE=DURATION:PT1H
X-Robots-Tag:noindex
X-PUBLISHED-TTL:PT1H
BEGIN:VTIMEZONE
TZID:Europe/Berlin
BEGIN:DAYLIGHT
TZOFFSETFROM:+0100
TZOFFSETTO:+0200
TZNAME:CEST
DTSTART:20250330T010000
END:DAYLIGHT
BEGIN:STANDARD
TZOFFSETFROM:+0200
TZOFFSETTO:+0100
TZNAME:CET
DTSTART:20251026T010000
END:STANDARD
END:VTIMEZONE
BEGIN:VEVENT
DTSTART;VALUE=DATE:20250308
DTEND;VALUE=DATE:20250311
DTSTAMP:20260420T104425
CREATED:20241031T004526Z
LAST-MODIFIED:20250202T233255Z
UID:1126-1741406400-1741579199@tickets.baila-augsburg.de
SUMMARY:Women´s Weekend & Men´s Day • Cuban Style Meeting
DESCRIPTION:WOMEN´S WEEKEND & MEN´S DAY\nConnect\, Create\, and Celebrate Your Unique Dance Journey \nWOMEN´S WEEKEND (2 Days) with Alex Toledo & Sofia de Endaya\nSOLD OUT!!!\nEmbrace and Celebrate Your Authentic Femininity \nDay 1: Saturday – Experimental Exploration\, Skill Refinement\n12:30 – 14:00 Creative & Experimental Excercises: Dive into innovative exercises designed to unlock new forms of expression and movement. \n14:00 – 14:30 Break \n14:30 – 15:30 Talk: Women & Men: Participate in an discussion/exchange about women’s and men’s roles in society and dance. \n15:30 – 17:00 Technique Improvement: Focus on enhancing your style\, skills\, and self-expression. \n20:00 Dinner all together: To built stronger connections and spend more time together we organise the reservation in a restaurant in the city. \n22:00 Cuban Party: Celebrate your progress and connect with others in a joyful\, supportive atmosphere. \nDay 2  Sunday – Choreography and video\nChoreography Project: Collaborate on a choreography with a specific Dresscode\nVideo Recording: Record your performance on video by amazing Sarah (Paris Cuban Salsa). \n \nMEN´S DAY Cuban Style Workshop with Alain Zambrana\n\nSaturday 8.3. 12:30 – 17:00 Control\, Confidence & Style\n \n\n12:30 – 14:00 Technique & Body Movement: Improve your fundamentals\, work on your posture\, and learn how to make your movements smoother and more confident. \n14:00 – 14:30 Break \n14:30 – 15:30 Talk with the women: Participate in an discussion/exchange about women and men and their roles in society and dance. \n15:30 – 17:00 Footwork\, Turns & Choreography: Master specific salsa moves\, perfect your turns\, and expand your repertoire with a cool\, combined choreography. \n20:00 Joint dinner: We arrange the reservation in a restaurant\, but it´s not included in the ticket. \n22:00 Cuban Dance Party: Celebrate your progress and connect with others in a joyful\, supportive atmosphere. Included in the ticket. Location will be announced.
URL:https://tickets.baila-augsburg.de/event/womens-weekend/
LOCATION:Baila social dance studio\, Halderstraße 21\, Augsburg\, 86150\, Germany
CATEGORIES:Weekend
ATTACH;FMTTYPE=image/jpeg:https://tickets.baila-augsburg.de/wp-content/uploads/2024/10/Womens-Weekend-25-Save-the-date.jpg
END:VEVENT
END:VCALENDAR