BEGIN:VCALENDAR
VERSION:2.0
PRODID:-//¡baila! Augsburg Events - ECPv6.9.0//NONSGML v1.0//EN
CALSCALE:GREGORIAN
METHOD:PUBLISH
X-WR-CALNAME:¡baila! Augsburg Events
X-ORIGINAL-URL:https://tickets.baila-augsburg.de
X-WR-CALDESC:Events for ¡baila! Augsburg Events
REFRESH-INTERVAL;VALUE=DURATION:PT1H
X-Robots-Tag:noindex
X-PUBLISHED-TTL:PT1H
BEGIN:VTIMEZONE
TZID:Europe/Berlin
BEGIN:DAYLIGHT
TZOFFSETFROM:+0100
TZOFFSETTO:+0200
TZNAME:CEST
DTSTART:20240331T010000
END:DAYLIGHT
BEGIN:STANDARD
TZOFFSETFROM:+0200
TZOFFSETTO:+0100
TZNAME:CET
DTSTART:20241027T010000
END:STANDARD
END:VTIMEZONE
BEGIN:VEVENT
DTSTART;VALUE=DATE:20241122
DTEND;VALUE=DATE:20241126
DTSTAMP:20260423T075849
CREATED:20240829T215121Z
LAST-MODIFIED:20241119T152107Z
UID:10000008-1732248000-1732507199@tickets.baila-augsburg.de
SUMMARY:La Descarga - Baila 6 Years Anniversary Weekend
DESCRIPTION:Dearest dance community\,\nWe cordially invite you to celebrate our 6th Baila anniversary from 22.11. – 24.11.24 with us! Come and experience a fantastic weekend full of music\, dance and community with great invited guest teachers\, DJs\, workshops\, parties and a top location directly at the Augsburg main station. \nArtists:\nLuis Duarte\nOliwia Szewczak\nSassan Aliovaliolahi\nHelen Haukamp\nAriel López\nSofia de Endaya\nBhavin Shukla\nSoonruta Kothadia\nAlain Zambrana NEW\nMijael Bueno NEW\nLouisa Weritz NEW \nDj Martinho\nDj Yas\nDj Rafi NEW \nProgram:\n\n🎶 Parties on Friday & Saturday: get carried away by our great DJs when Cuban rhythms meet Dominican beats. Dance and party with us and enjoy lots of surprises! Parties start at 9 pm (Friday open end/ Saturday until 2 am!!!) \n💃🏼 Workshops on Saturday & Sunday: Workshops in Casino (Salsa Cubana)\, Rueda de Casino\, Son\, Rumba\, Styling\, Reggaetón\, Merengue Bachata Dominicana & more with our team of teachers! Workshop program between approx. 11 am – 4 pm (detailed schedule to follow) \nFr 22.11.\n20 Uhr Pre Party Workshops\n21:00 – 03:00 Baila Anniversary Party\n„Cuban meets Dominican“\nDj Martinho & Dj Yas \nSa 23.11.\n11:00 – 16:00 Workshops\n19:00 Dinner (not included/with registration)\n21:00 – 02:00 La Descarga Party\n2 areas „Cuban Salsa“: Dj Martinho & DJ Rafi\n„Dominican Bachata“: Dj Yas \nSo 24.11.\n11:00 – 17:00 Workshops & Conference about Cuban & Dominican music & dance culture \nPricing:\nPre-Sale until 21.11.24\nFriday Party with Workshop: 15€\nSaturday Party: 15€\nPartypass: 30€\nFullpass: 169€ (4. category) / 179€ (5. category) \nBox office: \nFriday Party with Workshop: 20€\nFriday Party without Workshop 15€\nSaturday Party 18€\nPartypass: 35€\nFullpass: 179€ \n \nWorkshop Schedule
URL:https://tickets.baila-augsburg.de/event/la-descarga/
LOCATION:Hep Cat Club\, Viktoriastraße 3b\, Augsburg\, 86150\, Germany
CATEGORIES:Weekend
ATTACH;FMTTYPE=image/jpeg:https://tickets.baila-augsburg.de/wp-content/uploads/2024/08/La-Descarga-New-FB.jpg
END:VEVENT
BEGIN:VEVENT
DTSTART;VALUE=DATE:20240426
DTEND;VALUE=DATE:20240429
DTSTAMP:20260423T075849
CREATED:20231207T152407Z
LAST-MODIFIED:20240828T111834Z
UID:10000004-1714104000-1714348799@tickets.baila-augsburg.de
SUMMARY:Timbalemania 2024
DESCRIPTION:Are you ready for our 3. edition???\nTimbalemania 2024 is going to take place the 26.\, 27.\, & 28.4. in beautiful Augsburg city. \nA unique experience with limited spots\, interesting community activities\, tourism\, a well structured workshop schedule\, crazy parties in a central venue with a great artist line-up and lots of fun. \n— CONCEPT —\n\n\nLimited spots for good quality workshops \n\n\nBalanced amount of leaders & followers  \n\n\nactivities to connect with each other besides dancing: Bowling\, Karaoke & puppet theatre \n\n\nTourism\, culture & community are part of the program \n\n\n3 x delicious full meals in different restaurants of Augsburg city \n\n\ncrazy parties with passionate DJs \n\n\ncentral venue for workshops & parties (directly at main station) \n\n\nTop line-up with dedicated teachers \n\n\nStructured workshop schedule with concept for social dancers \n\n\n— CONFIRMED ARTISTS —\nFemale Teachers:\nEMILIA PEDRA  \nHELEN HAUKAMP \nKARELIA DESPAIGNE \nROYMA ROMAN \nSOFIA DE ENDAYA \nMale Teachers:\nALEXEI RAMOS \nARIEL LÓPEZ \nLUIS DUARTE \nSASSAN \nYOHAN CORRIOSO \nDJs:\nDJ YALA \nDJ TOM NKA \nDJ ENDAYA  \nDJ LUIS  \nDJ MARTINHO \nPhotography:\nNATHANAEL MERGÜI  \nVideography:\nDANCE MESSENGERS  \nSocial Media / Photo & Video:\nPARIS CUBAN SALSA \n— VENUE —\nHep Cat Club \nViktoriastraße 3b \n86150 Augsburg \n(Am Gleis 1 des Hauptbahnhofs) \n— CONDITIONS —\nFULLPASS (80 spots): 333€ \n(3 days of workshops (12h)\, 3 parties\, 1 Pre-party\, 3 delicious meals in different restaurants\, \n3 different activities in augsburg including entry and more\, T-Shirt (worth 20€) included for the first 50 inscriptions) \nLOCALPASS (20 spots): 188€\n(3 days of workshops (12h) & 3 parties) \nPARTYPASS (50 spots): 55€\n(4 parties) \nSTAY TUNED: \nWHATSAPP GROUP
URL:https://tickets.baila-augsburg.de/event/timbalemania-2024/
LOCATION:Hep Cat Club\, Viktoriastraße 3b\, Augsburg\, 86150\, Germany
CATEGORIES:Festival
ATTACH;FMTTYPE=image/jpeg:https://tickets.baila-augsburg.de/wp-content/uploads/2023/12/Timbalemana-FB.jpg
END:VEVENT
END:VCALENDAR